BEGIN:VCALENDAR
VERSION:2.0
PRODID:-//Saalfelden-Leogang.com//NONSGML kigkonsult.se iCalcreator 2.22.1/
 /EN
METHOD:PUBLISH
X-WR-CALNAME;LANGUAGE=en:Saalfelden-Leogang.com
X-WR-CALDESC;LANGUAGE=en:Saalfelden-Leogang.com
X-WR-TIMEZONE;LANGUAGE=en:Europe/Berlin
BEGIN:VEVENT
UID:20260422T124724CEST-7251gGgpoi@Saalfelden-Leogang.com
DTSTAMP:20260422T104724Z
DESCRIPTION:
DTSTART:20260704T002149Z
DTEND:20260704T002149Z
LOCATION;LANGUAGE=en:Bike Park Leogang
SUMMARY;LANGUAGE=en:Vorbereitungstag Bike Park Coach
END:VEVENT
BEGIN:VEVENT
UID:20260422T124724CEST-72520GUGmL@Saalfelden-Leogang.com
DTSTAMP:20260422T104724Z
DESCRIPTION:
DTSTART:20260905T002149Z
DTEND:20260905T002149Z
LOCATION;LANGUAGE=en:Bike Park Leogang
SUMMARY;LANGUAGE=en:Vorbereitungstag Bike Park Coach
END:VEVENT
BEGIN:VEVENT
UID:20260422T124724CEST-7252cu6RJW@Saalfelden-Leogang.com
DTSTAMP:20260422T104724Z
DESCRIPTION:
DTSTART:20261010T002149Z
DTEND:20261010T002149Z
LOCATION;LANGUAGE=en:Bike Park Leogang
SUMMARY;LANGUAGE=en:Vorbereitungstag Bike Park Coach
END:VEVENT
END:VCALENDAR
